BEGIN:VCALENDAR
VERSION:2.0
PRODID:-//Comunidade Oásis - ECPv6.15.20//NONSGML v1.0//EN
CALSCALE:GREGORIAN
METHOD:PUBLISH
X-ORIGINAL-URL:https://comunidadeoasis.org.br
X-WR-CALDESC:Eventos para Comunidade Oásis
REFRESH-INTERVAL;VALUE=DURATION:PT1H
X-Robots-Tag:noindex
X-PUBLISHED-TTL:PT1H
BEGIN:VTIMEZONE
TZID:America/Sao_Paulo
BEGIN:STANDARD
TZOFFSETFROM:-0300
TZOFFSETTO:-0300
TZNAME:-03
DTSTART:20250101T000000
END:STANDARD
END:VTIMEZONE
BEGIN:VEVENT
DTSTART;TZID=America/Sao_Paulo:20260906T080000
DTEND;TZID=America/Sao_Paulo:20260908T210000
DTSTAMP:20260421T070846
CREATED:20250926T180223Z
LAST-MODIFIED:20250926T180223Z
UID:28236-1788681600-1788901200@comunidadeoasis.org.br
SUMMARY:Tríduo de Adoração
DESCRIPTION:É oportunidade para todos os que desejarem e sentirem-se chamados a estar diante de Jesus Eucarístico\, durante o tempo que for possível a cada um. A Casa de Oração permanece aberta dia e noite e acontecem diversos momentos de oração. São 60 horas em adoração ao Santíssimo Sacramento! \nVocê pode agendar um horário através do nosso Whats (54)99174-9640 ou do Fone: (54)3028-3888 \nProgramação: \n\nAdoração Eucarística 24h por dia\nSanta Missa sábado\, às 8h e segunda-feira\, às 20h\nTerço da Misericórdia sábado e segunda-feira às 15h\nRécita do Santo Rosário domingo\, a partir das 14h\n\n“Ficai certos de que todos os instantes da vossa vida\, o tempo que passardes diante do Divino Sacramento será o que vos dará mais força durante a vida\, mais consolação na hora da morte e durante a eternidade”. (Santo Afonso Maria de Ligório)
URL:https://comunidadeoasis.org.br/evento/triduo-de-adoracao-2/2026-09-06/
LOCATION:Casa de Oração São Pio\, Rua Feijó Jr\, 275\, Bairro São Pelegrino\, Caxias do Sul\, Rio Grande do Sul\, Brasil
END:VEVENT
BEGIN:VEVENT
DTSTART;TZID=America/Sao_Paulo:20260927T140000
DTEND;TZID=America/Sao_Paulo:20260927T170000
DTSTAMP:20260421T070846
CREATED:20250926T175133Z
LAST-MODIFIED:20250926T175133Z
UID:28244-1790517600-1790528400@comunidadeoasis.org.br
SUMMARY:Retiro na Casa São Pio
DESCRIPTION:Este Retiro tem a duração de uma tarde e a oportunidade de experimentar a imensa profundidade do Amor de Deus. \n  \nNa Casa de Oração São Pio de Pietrelcina – Rua Feijó Jr.\, 275\, Bairro São Pelegrino\, Caxias do Sul/RS \nInformações através do fone (54)3028-8881 ou  do Whats (54)99177-7148. \nA entrada é franca.
URL:https://comunidadeoasis.org.br/evento/retiro-na-casa-sao-pio/2026-09-27/
LOCATION:Casa de Oração São Pio\, Rua Feijó Jr\, 275\, Bairro São Pelegrino\, Caxias do Sul\, Rio Grande do Sul\, Brasil
END:VEVENT
BEGIN:VEVENT
DTSTART;TZID=America/Sao_Paulo:20261004T080000
DTEND;TZID=America/Sao_Paulo:20261006T210000
DTSTAMP:20260421T070846
CREATED:20250926T180223Z
LAST-MODIFIED:20250926T180223Z
UID:28237-1791100800-1791320400@comunidadeoasis.org.br
SUMMARY:Tríduo de Adoração
DESCRIPTION:É oportunidade para todos os que desejarem e sentirem-se chamados a estar diante de Jesus Eucarístico\, durante o tempo que for possível a cada um. A Casa de Oração permanece aberta dia e noite e acontecem diversos momentos de oração. São 60 horas em adoração ao Santíssimo Sacramento! \nVocê pode agendar um horário através do nosso Whats (54)99174-9640 ou do Fone: (54)3028-3888 \nProgramação: \n\nAdoração Eucarística 24h por dia\nSanta Missa sábado\, às 8h e segunda-feira\, às 20h\nTerço da Misericórdia sábado e segunda-feira às 15h\nRécita do Santo Rosário domingo\, a partir das 14h\n\n“Ficai certos de que todos os instantes da vossa vida\, o tempo que passardes diante do Divino Sacramento será o que vos dará mais força durante a vida\, mais consolação na hora da morte e durante a eternidade”. (Santo Afonso Maria de Ligório)
URL:https://comunidadeoasis.org.br/evento/triduo-de-adoracao-2/2026-10-04/
LOCATION:Casa de Oração São Pio\, Rua Feijó Jr\, 275\, Bairro São Pelegrino\, Caxias do Sul\, Rio Grande do Sul\, Brasil
END:VEVENT
BEGIN:VEVENT
DTSTART;TZID=America/Sao_Paulo:20261025T140000
DTEND;TZID=America/Sao_Paulo:20261025T170000
DTSTAMP:20260421T070846
CREATED:20250926T175133Z
LAST-MODIFIED:20250926T175133Z
UID:28245-1792936800-1792947600@comunidadeoasis.org.br
SUMMARY:Retiro na Casa São Pio
DESCRIPTION:Este Retiro tem a duração de uma tarde e a oportunidade de experimentar a imensa profundidade do Amor de Deus. \n  \nNa Casa de Oração São Pio de Pietrelcina – Rua Feijó Jr.\, 275\, Bairro São Pelegrino\, Caxias do Sul/RS \nInformações através do fone (54)3028-8881 ou  do Whats (54)99177-7148. \nA entrada é franca.
URL:https://comunidadeoasis.org.br/evento/retiro-na-casa-sao-pio/2026-10-25/
LOCATION:Casa de Oração São Pio\, Rua Feijó Jr\, 275\, Bairro São Pelegrino\, Caxias do Sul\, Rio Grande do Sul\, Brasil
END:VEVENT
BEGIN:VEVENT
DTSTART;TZID=America/Sao_Paulo:20261101T080000
DTEND;TZID=America/Sao_Paulo:20261103T210000
DTSTAMP:20260421T070846
CREATED:20250926T180223Z
LAST-MODIFIED:20250926T180223Z
UID:28238-1793520000-1793739600@comunidadeoasis.org.br
SUMMARY:Tríduo de Adoração
DESCRIPTION:É oportunidade para todos os que desejarem e sentirem-se chamados a estar diante de Jesus Eucarístico\, durante o tempo que for possível a cada um. A Casa de Oração permanece aberta dia e noite e acontecem diversos momentos de oração. São 60 horas em adoração ao Santíssimo Sacramento! \nVocê pode agendar um horário através do nosso Whats (54)99174-9640 ou do Fone: (54)3028-3888 \nProgramação: \n\nAdoração Eucarística 24h por dia\nSanta Missa sábado\, às 8h e segunda-feira\, às 20h\nTerço da Misericórdia sábado e segunda-feira às 15h\nRécita do Santo Rosário domingo\, a partir das 14h\n\n“Ficai certos de que todos os instantes da vossa vida\, o tempo que passardes diante do Divino Sacramento será o que vos dará mais força durante a vida\, mais consolação na hora da morte e durante a eternidade”. (Santo Afonso Maria de Ligório)
URL:https://comunidadeoasis.org.br/evento/triduo-de-adoracao-2/2026-11-01/
LOCATION:Casa de Oração São Pio\, Rua Feijó Jr\, 275\, Bairro São Pelegrino\, Caxias do Sul\, Rio Grande do Sul\, Brasil
END:VEVENT
BEGIN:VEVENT
DTSTART;TZID=America/Sao_Paulo:20261122T140000
DTEND;TZID=America/Sao_Paulo:20261122T170000
DTSTAMP:20260421T070846
CREATED:20250926T175133Z
LAST-MODIFIED:20250926T175133Z
UID:28246-1795356000-1795366800@comunidadeoasis.org.br
SUMMARY:Retiro na Casa São Pio
DESCRIPTION:Este Retiro tem a duração de uma tarde e a oportunidade de experimentar a imensa profundidade do Amor de Deus. \n  \nNa Casa de Oração São Pio de Pietrelcina – Rua Feijó Jr.\, 275\, Bairro São Pelegrino\, Caxias do Sul/RS \nInformações através do fone (54)3028-8881 ou  do Whats (54)99177-7148. \nA entrada é franca.
URL:https://comunidadeoasis.org.br/evento/retiro-na-casa-sao-pio/2026-11-22/
LOCATION:Casa de Oração São Pio\, Rua Feijó Jr\, 275\, Bairro São Pelegrino\, Caxias do Sul\, Rio Grande do Sul\, Brasil
END:VEVENT
BEGIN:VEVENT
DTSTART;TZID=America/Sao_Paulo:20261206T080000
DTEND;TZID=America/Sao_Paulo:20261208T210000
DTSTAMP:20260421T070846
CREATED:20250926T180223Z
LAST-MODIFIED:20250926T180223Z
UID:28239-1796544000-1796763600@comunidadeoasis.org.br
SUMMARY:Tríduo de Adoração
DESCRIPTION:É oportunidade para todos os que desejarem e sentirem-se chamados a estar diante de Jesus Eucarístico\, durante o tempo que for possível a cada um. A Casa de Oração permanece aberta dia e noite e acontecem diversos momentos de oração. São 60 horas em adoração ao Santíssimo Sacramento! \nVocê pode agendar um horário através do nosso Whats (54)99174-9640 ou do Fone: (54)3028-3888 \nProgramação: \n\nAdoração Eucarística 24h por dia\nSanta Missa sábado\, às 8h e segunda-feira\, às 20h\nTerço da Misericórdia sábado e segunda-feira às 15h\nRécita do Santo Rosário domingo\, a partir das 14h\n\n“Ficai certos de que todos os instantes da vossa vida\, o tempo que passardes diante do Divino Sacramento será o que vos dará mais força durante a vida\, mais consolação na hora da morte e durante a eternidade”. (Santo Afonso Maria de Ligório)
URL:https://comunidadeoasis.org.br/evento/triduo-de-adoracao-2/2026-12-06/
LOCATION:Casa de Oração São Pio\, Rua Feijó Jr\, 275\, Bairro São Pelegrino\, Caxias do Sul\, Rio Grande do Sul\, Brasil
END:VEVENT
END:VCALENDAR