BEGIN:VCALENDAR
VERSION:2.0
PRODID:-//Comunidade Oásis - ECPv6.15.20//NONSGML v1.0//EN
CALSCALE:GREGORIAN
METHOD:PUBLISH
X-ORIGINAL-URL:https://comunidadeoasis.org.br
X-WR-CALDESC:Eventos para Comunidade Oásis
REFRESH-INTERVAL;VALUE=DURATION:PT1H
X-Robots-Tag:noindex
X-PUBLISHED-TTL:PT1H
BEGIN:VTIMEZONE
TZID:America/Sao_Paulo
BEGIN:STANDARD
TZOFFSETFROM:-0300
TZOFFSETTO:-0300
TZNAME:-03
DTSTART:20230101T000000
END:STANDARD
END:VTIMEZONE
BEGIN:VEVENT
DTSTART;TZID=America/Sao_Paulo:20260405T080000
DTEND;TZID=America/Sao_Paulo:20260407T210000
DTSTAMP:20260421T065953
CREATED:20250926T180223Z
LAST-MODIFIED:20250926T180223Z
UID:28231-1775376000-1775595600@comunidadeoasis.org.br
SUMMARY:Tríduo de Adoração
DESCRIPTION:É oportunidade para todos os que desejarem e sentirem-se chamados a estar diante de Jesus Eucarístico\, durante o tempo que for possível a cada um. A Casa de Oração permanece aberta dia e noite e acontecem diversos momentos de oração. São 60 horas em adoração ao Santíssimo Sacramento! \nVocê pode agendar um horário através do nosso Whats (54)99174-9640 ou do Fone: (54)3028-3888 \nProgramação: \n\nAdoração Eucarística 24h por dia\nSanta Missa sábado\, às 8h e segunda-feira\, às 20h\nTerço da Misericórdia sábado e segunda-feira às 15h\nRécita do Santo Rosário domingo\, a partir das 14h\n\n“Ficai certos de que todos os instantes da vossa vida\, o tempo que passardes diante do Divino Sacramento será o que vos dará mais força durante a vida\, mais consolação na hora da morte e durante a eternidade”. (Santo Afonso Maria de Ligório)
URL:https://comunidadeoasis.org.br/evento/triduo-de-adoracao-2/2026-04-05/
LOCATION:Casa de Oração São Pio\, Rua Feijó Jr\, 275\, Bairro São Pelegrino\, Caxias do Sul\, Rio Grande do Sul\, Brasil
END:VEVENT
BEGIN:VEVENT
DTSTART;TZID=America/Sao_Paulo:20260328T080000
DTEND;TZID=America/Sao_Paulo:20260330T210000
DTSTAMP:20260421T065953
CREATED:20250926T180223Z
LAST-MODIFIED:20260414T202711Z
UID:27109-1774684800-1774904400@comunidadeoasis.org.br
SUMMARY:Tríduo de Adoração
DESCRIPTION:É oportunidade para todos os que desejarem e sentirem-se chamados a estar diante de Jesus Eucarístico\, durante o tempo que for possível a cada um. A Casa de Oração permanece aberta dia e noite e acontecem diversos momentos de oração. São 60 horas em adoração ao Santíssimo Sacramento! \nVocê pode agendar um horário através do nosso Whats (54)99174-9640 ou do Fone: (54)3028-3888 \nProgramação: \n\nAdoração Eucarística 24h por dia\nSanta Missa sábado\, às 8h e segunda-feira\, às 20h\nTerço da Misericórdia sábado e segunda-feira às 15h\nRécita do Santo Rosário domingo\, a partir das 14h\n\n“Ficai certos de que todos os instantes da vossa vida\, o tempo que passardes diante do Divino Sacramento será o que vos dará mais força durante a vida\, mais consolação na hora da morte e durante a eternidade”. (Santo Afonso Maria de Ligório)
URL:https://comunidadeoasis.org.br/evento/triduo-de-adoracao-2/2026-03-28/
LOCATION:Casa de Oração São Pio\, Rua Feijó Jr\, 275\, Bairro São Pelegrino\, Caxias do Sul\, Rio Grande do Sul\, Brasil
END:VEVENT
BEGIN:VEVENT
DTSTART;TZID=America/Sao_Paulo:20260205T200000
DTEND;TZID=America/Sao_Paulo:20260205T213000
DTSTAMP:20260421T065953
CREATED:20240603T192758Z
LAST-MODIFIED:20260127T201300Z
UID:23041-1770321600-1770327000@comunidadeoasis.org.br
SUMMARY:Grupo de Louvor e Adoração
DESCRIPTION:O Grupo de Louvor e Adoração é aberto e acontece semanalmente na Casa de Oração São Pio de Pietrelcina.
URL:https://comunidadeoasis.org.br/evento/grupo-de-louvor-e-adoracao/
LOCATION:Casa de Oração São Pio\, Rua Feijó Jr\, 275\, Bairro São Pelegrino\, Caxias do Sul\, Rio Grande do Sul\, Brasil
END:VEVENT
BEGIN:VEVENT
DTSTART;TZID=America/Sao_Paulo:20241223T140000
DTEND;TZID=America/Sao_Paulo:20241223T163000
DTSTAMP:20260421T065953
CREATED:20240603T192641Z
LAST-MODIFIED:20240603T192641Z
UID:23040-1734962400-1734971400@comunidadeoasis.org.br
SUMMARY:Tarde de Oração no Dia Votivo a São Pio
DESCRIPTION:Com oração\, pregação da Palavra e experiência com Deus! \nInformações: Whats (54)99177-7148 ou Fone (54)3028-8881
URL:https://comunidadeoasis.org.br/evento/tarde-de-oracao-no-dia-votivo-a-sao-pio/2024-12-23/
LOCATION:Casa de Oração São Pio\, Rua Feijó Jr\, 275\, Bairro São Pelegrino\, Caxias do Sul\, Rio Grande do Sul\, Brasil
END:VEVENT
BEGIN:VEVENT
DTSTART;TZID=America/Sao_Paulo:20241222T140000
DTEND;TZID=America/Sao_Paulo:20241222T170000
DTSTAMP:20260421T065953
CREATED:20240603T193041Z
LAST-MODIFIED:20240603T193058Z
UID:23088-1734876000-1734886800@comunidadeoasis.org.br
SUMMARY:Retiro Relâmpago
DESCRIPTION:Este Retiro tem a duração de uma tarde e a oportunidade de experimentar a imensa profundidade do Amor de Deus. \nInformações através do fone (54)3028-8881 ou  do Whats (54)99177-7148. \nA entrada é franca. \n 
URL:https://comunidadeoasis.org.br/evento/retiro-relampago/2024-12-22/
LOCATION:Casa de Oração São Pio\, Rua Feijó Jr\, 275\, Bairro São Pelegrino\, Caxias do Sul\, Rio Grande do Sul\, Brasil
END:VEVENT
BEGIN:VEVENT
DTSTART;TZID=America/Sao_Paulo:20241201T080000
DTEND;TZID=America/Sao_Paulo:20241203T210000
DTSTAMP:20260421T065953
CREATED:20240603T192936Z
LAST-MODIFIED:20240603T192936Z
UID:23080-1733040000-1733259600@comunidadeoasis.org.br
SUMMARY:Tríduo de Adoração
DESCRIPTION:É oportunidade para todos os que desejarem e sentirem-se chamados a estar diante de Jesus Eucarístico\, durante o tempo que for possível a cada um. A Casa de Oração permanece aberta dia e noite e acontecem diversos momentos de oração. São 60 horas em adoração ao Santíssimo Sacramento! \nVocê pode agendar um horário através do nosso Whats (54)99177-7148 ou do Fone: (54)3028-8881 \nProgramação: \n\nAdoração Eucarística 24h por dia\nSanta Missa sábado\, às 8h e segunda-feira\, às 20h\nTerço da Misericórdia sábado e segunda-feira às 15h\nRécita do Santo Rosário domingo\, a partir das 14h\n\n“Ficai certos de que todos os instantes da vossa vida\, o tempo que passardes diante do Divino Sacramento será o que vos dará mais força durante a vida\, mais consolação na hora da morte e durante a eternidade”. (Santo Afonso Maria de Ligório)
URL:https://comunidadeoasis.org.br/evento/triduo-de-adoracao/2024-12-01/
LOCATION:Casa de Oração São Pio\, Rua Feijó Jr\, 275\, Bairro São Pelegrino\, Caxias do Sul\, Rio Grande do Sul\, Brasil
END:VEVENT
BEGIN:VEVENT
DTSTART;TZID=America/Sao_Paulo:20241124T140000
DTEND;TZID=America/Sao_Paulo:20241124T170000
DTSTAMP:20260421T065953
CREATED:20240603T193041Z
LAST-MODIFIED:20240603T193058Z
UID:23087-1732456800-1732467600@comunidadeoasis.org.br
SUMMARY:Retiro Relâmpago
DESCRIPTION:Este Retiro tem a duração de uma tarde e a oportunidade de experimentar a imensa profundidade do Amor de Deus. \nInformações através do fone (54)3028-8881 ou  do Whats (54)99177-7148. \nA entrada é franca. \n 
URL:https://comunidadeoasis.org.br/evento/retiro-relampago/2024-11-24/
LOCATION:Casa de Oração São Pio\, Rua Feijó Jr\, 275\, Bairro São Pelegrino\, Caxias do Sul\, Rio Grande do Sul\, Brasil
END:VEVENT
BEGIN:VEVENT
DTSTART;TZID=America/Sao_Paulo:20241123T140000
DTEND;TZID=America/Sao_Paulo:20241123T163000
DTSTAMP:20260421T065953
CREATED:20240603T192641Z
LAST-MODIFIED:20240603T192641Z
UID:23039-1732370400-1732379400@comunidadeoasis.org.br
SUMMARY:Tarde de Oração no Dia Votivo a São Pio
DESCRIPTION:Com oração\, pregação da Palavra e experiência com Deus! \nInformações: Whats (54)99177-7148 ou Fone (54)3028-8881
URL:https://comunidadeoasis.org.br/evento/tarde-de-oracao-no-dia-votivo-a-sao-pio/2024-11-23/
LOCATION:Casa de Oração São Pio\, Rua Feijó Jr\, 275\, Bairro São Pelegrino\, Caxias do Sul\, Rio Grande do Sul\, Brasil
END:VEVENT
BEGIN:VEVENT
DTSTART;TZID=America/Sao_Paulo:20241103T080000
DTEND;TZID=America/Sao_Paulo:20241105T210000
DTSTAMP:20260421T065953
CREATED:20240603T192936Z
LAST-MODIFIED:20240603T192936Z
UID:23079-1730620800-1730840400@comunidadeoasis.org.br
SUMMARY:Tríduo de Adoração
DESCRIPTION:É oportunidade para todos os que desejarem e sentirem-se chamados a estar diante de Jesus Eucarístico\, durante o tempo que for possível a cada um. A Casa de Oração permanece aberta dia e noite e acontecem diversos momentos de oração. São 60 horas em adoração ao Santíssimo Sacramento! \nVocê pode agendar um horário através do nosso Whats (54)99177-7148 ou do Fone: (54)3028-8881 \nProgramação: \n\nAdoração Eucarística 24h por dia\nSanta Missa sábado\, às 8h e segunda-feira\, às 20h\nTerço da Misericórdia sábado e segunda-feira às 15h\nRécita do Santo Rosário domingo\, a partir das 14h\n\n“Ficai certos de que todos os instantes da vossa vida\, o tempo que passardes diante do Divino Sacramento será o que vos dará mais força durante a vida\, mais consolação na hora da morte e durante a eternidade”. (Santo Afonso Maria de Ligório)
URL:https://comunidadeoasis.org.br/evento/triduo-de-adoracao/2024-11-03/
LOCATION:Casa de Oração São Pio\, Rua Feijó Jr\, 275\, Bairro São Pelegrino\, Caxias do Sul\, Rio Grande do Sul\, Brasil
END:VEVENT
BEGIN:VEVENT
DTSTART;TZID=America/Sao_Paulo:20241027T140000
DTEND;TZID=America/Sao_Paulo:20241027T170000
DTSTAMP:20260421T065953
CREATED:20240603T193041Z
LAST-MODIFIED:20240603T193058Z
UID:23086-1730037600-1730048400@comunidadeoasis.org.br
SUMMARY:Retiro Relâmpago
DESCRIPTION:Este Retiro tem a duração de uma tarde e a oportunidade de experimentar a imensa profundidade do Amor de Deus. \nInformações através do fone (54)3028-8881 ou  do Whats (54)99177-7148. \nA entrada é franca. \n 
URL:https://comunidadeoasis.org.br/evento/retiro-relampago/2024-10-27/
LOCATION:Casa de Oração São Pio\, Rua Feijó Jr\, 275\, Bairro São Pelegrino\, Caxias do Sul\, Rio Grande do Sul\, Brasil
END:VEVENT
BEGIN:VEVENT
DTSTART;TZID=America/Sao_Paulo:20241023T140000
DTEND;TZID=America/Sao_Paulo:20241023T163000
DTSTAMP:20260421T065953
CREATED:20240603T192641Z
LAST-MODIFIED:20240603T192641Z
UID:23038-1729692000-1729701000@comunidadeoasis.org.br
SUMMARY:Tarde de Oração no Dia Votivo a São Pio
DESCRIPTION:Com oração\, pregação da Palavra e experiência com Deus! \nInformações: Whats (54)99177-7148 ou Fone (54)3028-8881
URL:https://comunidadeoasis.org.br/evento/tarde-de-oracao-no-dia-votivo-a-sao-pio/2024-10-23/
LOCATION:Casa de Oração São Pio\, Rua Feijó Jr\, 275\, Bairro São Pelegrino\, Caxias do Sul\, Rio Grande do Sul\, Brasil
END:VEVENT
BEGIN:VEVENT
DTSTART;TZID=America/Sao_Paulo:20241006T080000
DTEND;TZID=America/Sao_Paulo:20241008T210000
DTSTAMP:20260421T065953
CREATED:20240603T192936Z
LAST-MODIFIED:20240603T192936Z
UID:23078-1728201600-1728421200@comunidadeoasis.org.br
SUMMARY:Tríduo de Adoração
DESCRIPTION:É oportunidade para todos os que desejarem e sentirem-se chamados a estar diante de Jesus Eucarístico\, durante o tempo que for possível a cada um. A Casa de Oração permanece aberta dia e noite e acontecem diversos momentos de oração. São 60 horas em adoração ao Santíssimo Sacramento! \nVocê pode agendar um horário através do nosso Whats (54)99177-7148 ou do Fone: (54)3028-8881 \nProgramação: \n\nAdoração Eucarística 24h por dia\nSanta Missa sábado\, às 8h e segunda-feira\, às 20h\nTerço da Misericórdia sábado e segunda-feira às 15h\nRécita do Santo Rosário domingo\, a partir das 14h\n\n“Ficai certos de que todos os instantes da vossa vida\, o tempo que passardes diante do Divino Sacramento será o que vos dará mais força durante a vida\, mais consolação na hora da morte e durante a eternidade”. (Santo Afonso Maria de Ligório)
URL:https://comunidadeoasis.org.br/evento/triduo-de-adoracao/2024-10-06/
LOCATION:Casa de Oração São Pio\, Rua Feijó Jr\, 275\, Bairro São Pelegrino\, Caxias do Sul\, Rio Grande do Sul\, Brasil
END:VEVENT
BEGIN:VEVENT
DTSTART;TZID=America/Sao_Paulo:20240923T140000
DTEND;TZID=America/Sao_Paulo:20240923T163000
DTSTAMP:20260421T065953
CREATED:20240603T192641Z
LAST-MODIFIED:20240603T192641Z
UID:23037-1727100000-1727109000@comunidadeoasis.org.br
SUMMARY:Tarde de Oração no Dia Votivo a São Pio
DESCRIPTION:Com oração\, pregação da Palavra e experiência com Deus! \nInformações: Whats (54)99177-7148 ou Fone (54)3028-8881
URL:https://comunidadeoasis.org.br/evento/tarde-de-oracao-no-dia-votivo-a-sao-pio/2024-09-23/
LOCATION:Casa de Oração São Pio\, Rua Feijó Jr\, 275\, Bairro São Pelegrino\, Caxias do Sul\, Rio Grande do Sul\, Brasil
END:VEVENT
BEGIN:VEVENT
DTSTART;TZID=America/Sao_Paulo:20240922T140000
DTEND;TZID=America/Sao_Paulo:20240922T170000
DTSTAMP:20260421T065953
CREATED:20240603T193041Z
LAST-MODIFIED:20240603T193057Z
UID:23085-1727013600-1727024400@comunidadeoasis.org.br
SUMMARY:Retiro Relâmpago
DESCRIPTION:Este Retiro tem a duração de uma tarde e a oportunidade de experimentar a imensa profundidade do Amor de Deus. \nInformações através do fone (54)3028-8881 ou  do Whats (54)99177-7148. \nA entrada é franca. \n 
URL:https://comunidadeoasis.org.br/evento/retiro-relampago/2024-09-22/
LOCATION:Casa de Oração São Pio\, Rua Feijó Jr\, 275\, Bairro São Pelegrino\, Caxias do Sul\, Rio Grande do Sul\, Brasil
END:VEVENT
BEGIN:VEVENT
DTSTART;TZID=America/Sao_Paulo:20240901T080000
DTEND;TZID=America/Sao_Paulo:20240903T210000
DTSTAMP:20260421T065953
CREATED:20240603T192936Z
LAST-MODIFIED:20240603T192936Z
UID:23077-1725177600-1725397200@comunidadeoasis.org.br
SUMMARY:Tríduo de Adoração
DESCRIPTION:É oportunidade para todos os que desejarem e sentirem-se chamados a estar diante de Jesus Eucarístico\, durante o tempo que for possível a cada um. A Casa de Oração permanece aberta dia e noite e acontecem diversos momentos de oração. São 60 horas em adoração ao Santíssimo Sacramento! \nVocê pode agendar um horário através do nosso Whats (54)99177-7148 ou do Fone: (54)3028-8881 \nProgramação: \n\nAdoração Eucarística 24h por dia\nSanta Missa sábado\, às 8h e segunda-feira\, às 20h\nTerço da Misericórdia sábado e segunda-feira às 15h\nRécita do Santo Rosário domingo\, a partir das 14h\n\n“Ficai certos de que todos os instantes da vossa vida\, o tempo que passardes diante do Divino Sacramento será o que vos dará mais força durante a vida\, mais consolação na hora da morte e durante a eternidade”. (Santo Afonso Maria de Ligório)
URL:https://comunidadeoasis.org.br/evento/triduo-de-adoracao/2024-09-01/
LOCATION:Casa de Oração São Pio\, Rua Feijó Jr\, 275\, Bairro São Pelegrino\, Caxias do Sul\, Rio Grande do Sul\, Brasil
END:VEVENT
BEGIN:VEVENT
DTSTART;TZID=America/Sao_Paulo:20240825T140000
DTEND;TZID=America/Sao_Paulo:20240825T170000
DTSTAMP:20260421T065953
CREATED:20240603T193041Z
LAST-MODIFIED:20240603T193057Z
UID:23084-1724594400-1724605200@comunidadeoasis.org.br
SUMMARY:Retiro Relâmpago
DESCRIPTION:Este Retiro tem a duração de uma tarde e a oportunidade de experimentar a imensa profundidade do Amor de Deus. \nInformações através do fone (54)3028-8881 ou  do Whats (54)99177-7148. \nA entrada é franca. \n 
URL:https://comunidadeoasis.org.br/evento/retiro-relampago/2024-08-25/
LOCATION:Casa de Oração São Pio\, Rua Feijó Jr\, 275\, Bairro São Pelegrino\, Caxias do Sul\, Rio Grande do Sul\, Brasil
END:VEVENT
BEGIN:VEVENT
DTSTART;TZID=America/Sao_Paulo:20240823T140000
DTEND;TZID=America/Sao_Paulo:20240823T163000
DTSTAMP:20260421T065953
CREATED:20240603T192641Z
LAST-MODIFIED:20240603T192641Z
UID:23036-1724421600-1724430600@comunidadeoasis.org.br
SUMMARY:Tarde de Oração no Dia Votivo a São Pio
DESCRIPTION:Com oração\, pregação da Palavra e experiência com Deus! \nInformações: Whats (54)99177-7148 ou Fone (54)3028-8881
URL:https://comunidadeoasis.org.br/evento/tarde-de-oracao-no-dia-votivo-a-sao-pio/2024-08-23/
LOCATION:Casa de Oração São Pio\, Rua Feijó Jr\, 275\, Bairro São Pelegrino\, Caxias do Sul\, Rio Grande do Sul\, Brasil
END:VEVENT
BEGIN:VEVENT
DTSTART;TZID=America/Sao_Paulo:20240815T200000
DTEND;TZID=America/Sao_Paulo:20240815T220000
DTSTAMP:20260421T065953
CREATED:20240603T192758Z
LAST-MODIFIED:20240603T192758Z
UID:23052-1723752000-1723759200@comunidadeoasis.org.br
SUMMARY:Grupo de Louvor e Adoração
DESCRIPTION:O Grupo de Louvor e Adoração é aberto e acontece semanalmente na Casa de Oração São Pio de Pietrelcina.
URL:https://comunidadeoasis.org.br/evento/grupo-de-louvor-e-adoracao/2024-08-15/
LOCATION:Casa de Oração São Pio\, Rua Feijó Jr\, 275\, Bairro São Pelegrino\, Caxias do Sul\, Rio Grande do Sul\, Brasil
END:VEVENT
BEGIN:VEVENT
DTSTART;TZID=America/Sao_Paulo:20240808T200000
DTEND;TZID=America/Sao_Paulo:20240808T220000
DTSTAMP:20260421T065953
CREATED:20240603T192758Z
LAST-MODIFIED:20240603T192758Z
UID:23051-1723147200-1723154400@comunidadeoasis.org.br
SUMMARY:Grupo de Louvor e Adoração
DESCRIPTION:O Grupo de Louvor e Adoração é aberto e acontece semanalmente na Casa de Oração São Pio de Pietrelcina.
URL:https://comunidadeoasis.org.br/evento/grupo-de-louvor-e-adoracao/2024-08-08/
LOCATION:Casa de Oração São Pio\, Rua Feijó Jr\, 275\, Bairro São Pelegrino\, Caxias do Sul\, Rio Grande do Sul\, Brasil
END:VEVENT
BEGIN:VEVENT
DTSTART;TZID=America/Sao_Paulo:20240804T080000
DTEND;TZID=America/Sao_Paulo:20240806T210000
DTSTAMP:20260421T065953
CREATED:20240603T192936Z
LAST-MODIFIED:20240603T192936Z
UID:23076-1722758400-1722978000@comunidadeoasis.org.br
SUMMARY:Tríduo de Adoração
DESCRIPTION:É oportunidade para todos os que desejarem e sentirem-se chamados a estar diante de Jesus Eucarístico\, durante o tempo que for possível a cada um. A Casa de Oração permanece aberta dia e noite e acontecem diversos momentos de oração. São 60 horas em adoração ao Santíssimo Sacramento! \nVocê pode agendar um horário através do nosso Whats (54)99177-7148 ou do Fone: (54)3028-8881 \nProgramação: \n\nAdoração Eucarística 24h por dia\nSanta Missa sábado\, às 8h e segunda-feira\, às 20h\nTerço da Misericórdia sábado e segunda-feira às 15h\nRécita do Santo Rosário domingo\, a partir das 14h\n\n“Ficai certos de que todos os instantes da vossa vida\, o tempo que passardes diante do Divino Sacramento será o que vos dará mais força durante a vida\, mais consolação na hora da morte e durante a eternidade”. (Santo Afonso Maria de Ligório)
URL:https://comunidadeoasis.org.br/evento/triduo-de-adoracao/2024-08-04/
LOCATION:Casa de Oração São Pio\, Rua Feijó Jr\, 275\, Bairro São Pelegrino\, Caxias do Sul\, Rio Grande do Sul\, Brasil
END:VEVENT
BEGIN:VEVENT
DTSTART;TZID=America/Sao_Paulo:20240801T200000
DTEND;TZID=America/Sao_Paulo:20240801T220000
DTSTAMP:20260421T065953
CREATED:20240603T192758Z
LAST-MODIFIED:20240603T192758Z
UID:23050-1722542400-1722549600@comunidadeoasis.org.br
SUMMARY:Grupo de Louvor e Adoração
DESCRIPTION:O Grupo de Louvor e Adoração é aberto e acontece semanalmente na Casa de Oração São Pio de Pietrelcina.
URL:https://comunidadeoasis.org.br/evento/grupo-de-louvor-e-adoracao/2024-08-01/
LOCATION:Casa de Oração São Pio\, Rua Feijó Jr\, 275\, Bairro São Pelegrino\, Caxias do Sul\, Rio Grande do Sul\, Brasil
END:VEVENT
BEGIN:VEVENT
DTSTART;TZID=America/Sao_Paulo:20240728T140000
DTEND;TZID=America/Sao_Paulo:20240728T170000
DTSTAMP:20260421T065953
CREATED:20240603T193041Z
LAST-MODIFIED:20240603T193057Z
UID:23083-1722175200-1722186000@comunidadeoasis.org.br
SUMMARY:Retiro Relâmpago
DESCRIPTION:Este Retiro tem a duração de uma tarde e a oportunidade de experimentar a imensa profundidade do Amor de Deus. \nInformações através do fone (54)3028-8881 ou  do Whats (54)99177-7148. \nA entrada é franca. \n 
URL:https://comunidadeoasis.org.br/evento/retiro-relampago/2024-07-28/
LOCATION:Casa de Oração São Pio\, Rua Feijó Jr\, 275\, Bairro São Pelegrino\, Caxias do Sul\, Rio Grande do Sul\, Brasil
END:VEVENT
BEGIN:VEVENT
DTSTART;TZID=America/Sao_Paulo:20240725T200000
DTEND;TZID=America/Sao_Paulo:20240725T220000
DTSTAMP:20260421T065953
CREATED:20240603T192758Z
LAST-MODIFIED:20240603T192758Z
UID:23049-1721937600-1721944800@comunidadeoasis.org.br
SUMMARY:Grupo de Louvor e Adoração
DESCRIPTION:O Grupo de Louvor e Adoração é aberto e acontece semanalmente na Casa de Oração São Pio de Pietrelcina.
URL:https://comunidadeoasis.org.br/evento/grupo-de-louvor-e-adoracao/2024-07-25/
LOCATION:Casa de Oração São Pio\, Rua Feijó Jr\, 275\, Bairro São Pelegrino\, Caxias do Sul\, Rio Grande do Sul\, Brasil
END:VEVENT
BEGIN:VEVENT
DTSTART;TZID=America/Sao_Paulo:20240723T140000
DTEND;TZID=America/Sao_Paulo:20240723T163000
DTSTAMP:20260421T065953
CREATED:20240603T192641Z
LAST-MODIFIED:20240603T192641Z
UID:23034-1721743200-1721752200@comunidadeoasis.org.br
SUMMARY:Tarde de Oração no Dia Votivo a São Pio
DESCRIPTION:Com oração\, pregação da Palavra e experiência com Deus! \nInformações: Whats (54)99177-7148 ou Fone (54)3028-8881
URL:https://comunidadeoasis.org.br/evento/tarde-de-oracao-no-dia-votivo-a-sao-pio/2024-07-23/
LOCATION:Casa de Oração São Pio\, Rua Feijó Jr\, 275\, Bairro São Pelegrino\, Caxias do Sul\, Rio Grande do Sul\, Brasil
END:VEVENT
BEGIN:VEVENT
DTSTART;TZID=America/Sao_Paulo:20240718T200000
DTEND;TZID=America/Sao_Paulo:20240718T220000
DTSTAMP:20260421T065953
CREATED:20240603T192758Z
LAST-MODIFIED:20240603T192758Z
UID:23048-1721332800-1721340000@comunidadeoasis.org.br
SUMMARY:Grupo de Louvor e Adoração
DESCRIPTION:O Grupo de Louvor e Adoração é aberto e acontece semanalmente na Casa de Oração São Pio de Pietrelcina.
URL:https://comunidadeoasis.org.br/evento/grupo-de-louvor-e-adoracao/2024-07-18/
LOCATION:Casa de Oração São Pio\, Rua Feijó Jr\, 275\, Bairro São Pelegrino\, Caxias do Sul\, Rio Grande do Sul\, Brasil
END:VEVENT
BEGIN:VEVENT
DTSTART;TZID=America/Sao_Paulo:20240711T200000
DTEND;TZID=America/Sao_Paulo:20240711T220000
DTSTAMP:20260421T065953
CREATED:20240603T192758Z
LAST-MODIFIED:20240603T192758Z
UID:23047-1720728000-1720735200@comunidadeoasis.org.br
SUMMARY:Grupo de Louvor e Adoração
DESCRIPTION:O Grupo de Louvor e Adoração é aberto e acontece semanalmente na Casa de Oração São Pio de Pietrelcina.
URL:https://comunidadeoasis.org.br/evento/grupo-de-louvor-e-adoracao/2024-07-11/
LOCATION:Casa de Oração São Pio\, Rua Feijó Jr\, 275\, Bairro São Pelegrino\, Caxias do Sul\, Rio Grande do Sul\, Brasil
END:VEVENT
BEGIN:VEVENT
DTSTART;TZID=America/Sao_Paulo:20240707T080000
DTEND;TZID=America/Sao_Paulo:20240709T210000
DTSTAMP:20260421T065953
CREATED:20240603T192936Z
LAST-MODIFIED:20240603T192936Z
UID:23075-1720339200-1720558800@comunidadeoasis.org.br
SUMMARY:Tríduo de Adoração
DESCRIPTION:É oportunidade para todos os que desejarem e sentirem-se chamados a estar diante de Jesus Eucarístico\, durante o tempo que for possível a cada um. A Casa de Oração permanece aberta dia e noite e acontecem diversos momentos de oração. São 60 horas em adoração ao Santíssimo Sacramento! \nVocê pode agendar um horário através do nosso Whats (54)99177-7148 ou do Fone: (54)3028-8881 \nProgramação: \n\nAdoração Eucarística 24h por dia\nSanta Missa sábado\, às 8h e segunda-feira\, às 20h\nTerço da Misericórdia sábado e segunda-feira às 15h\nRécita do Santo Rosário domingo\, a partir das 14h\n\n“Ficai certos de que todos os instantes da vossa vida\, o tempo que passardes diante do Divino Sacramento será o que vos dará mais força durante a vida\, mais consolação na hora da morte e durante a eternidade”. (Santo Afonso Maria de Ligório)
URL:https://comunidadeoasis.org.br/evento/triduo-de-adoracao/2024-07-07/
LOCATION:Casa de Oração São Pio\, Rua Feijó Jr\, 275\, Bairro São Pelegrino\, Caxias do Sul\, Rio Grande do Sul\, Brasil
END:VEVENT
BEGIN:VEVENT
DTSTART;TZID=America/Sao_Paulo:20240704T200000
DTEND;TZID=America/Sao_Paulo:20240704T220000
DTSTAMP:20260421T065953
CREATED:20240603T192758Z
LAST-MODIFIED:20240603T192758Z
UID:23046-1720123200-1720130400@comunidadeoasis.org.br
SUMMARY:Grupo de Louvor e Adoração
DESCRIPTION:O Grupo de Louvor e Adoração é aberto e acontece semanalmente na Casa de Oração São Pio de Pietrelcina.
URL:https://comunidadeoasis.org.br/evento/grupo-de-louvor-e-adoracao/2024-07-04/
LOCATION:Casa de Oração São Pio\, Rua Feijó Jr\, 275\, Bairro São Pelegrino\, Caxias do Sul\, Rio Grande do Sul\, Brasil
END:VEVENT
BEGIN:VEVENT
DTSTART;TZID=America/Sao_Paulo:20240627T200000
DTEND;TZID=America/Sao_Paulo:20240627T220000
DTSTAMP:20260421T065953
CREATED:20240603T192758Z
LAST-MODIFIED:20240603T192758Z
UID:23045-1719518400-1719525600@comunidadeoasis.org.br
SUMMARY:Grupo de Louvor e Adoração
DESCRIPTION:O Grupo de Louvor e Adoração é aberto e acontece semanalmente na Casa de Oração São Pio de Pietrelcina.
URL:https://comunidadeoasis.org.br/evento/grupo-de-louvor-e-adoracao/2024-06-27/
LOCATION:Casa de Oração São Pio\, Rua Feijó Jr\, 275\, Bairro São Pelegrino\, Caxias do Sul\, Rio Grande do Sul\, Brasil
END:VEVENT
BEGIN:VEVENT
DTSTART;TZID=America/Sao_Paulo:20240623T140000
DTEND;TZID=America/Sao_Paulo:20240623T170000
DTSTAMP:20260421T065953
CREATED:20240603T193041Z
LAST-MODIFIED:20240603T193057Z
UID:23081-1719151200-1719162000@comunidadeoasis.org.br
SUMMARY:Retiro Relâmpago
DESCRIPTION:Este Retiro tem a duração de uma tarde e a oportunidade de experimentar a imensa profundidade do Amor de Deus. \nInformações através do fone (54)3028-8881 ou  do Whats (54)99177-7148. \nA entrada é franca. \n 
URL:https://comunidadeoasis.org.br/evento/retiro-relampago/2024-06-23/
LOCATION:Casa de Oração São Pio\, Rua Feijó Jr\, 275\, Bairro São Pelegrino\, Caxias do Sul\, Rio Grande do Sul\, Brasil
END:VEVENT
END:VCALENDAR